Workbook

Sheet Indice
B2: ISTITUTO COMPRENSIVO STATALE SETTIMO MILANESE
B3: 20019 SETTIMO MILANESE (MI) VIA BUOZZI, 1 C.F. 80125330151 C.M. MIIC83200V
B5: INDICE DI TEMPESTIVITA' DEI PAGAMENTI | F5: 2022
A7: INDICATORE SU BASE ANNUALE
A8: Numero Fatture | C8: Importo Pagato | E8: Tempo medio di pagamento in gg.
A9: =SUM(B13:B16) -> 154 | C9: =SUM(C13:C16) -> 204076.74 | E9: =('Trimestre 1'!H1+'Trimestre 2'!H1+'Trimestre 3'!H1+'Trimestre 4'!H1)/C9 -> -21.593258
A11: INDICATORE SU BASE TRIMESTRALE
A12: TRIMESTRE | B12: Numero Fatture | C12: Importo Pagato | D12: Tempo medio (MEDIA PONDERATA SU BASE TRIMESTRALE) di pagamento in gg. | E12: Ammontare complessivo dei debiti | F12: Numero delle imprese creditrici
A13: 1° TRIMESTRE | B13: ='Trimestre 1'!C1 -> 35 | C13: ='Trimestre 1'!B1 -> 50726.39 | D13: ='Trimestre 1'!G1 -> -21.00223 | E13: 77555.81 | F13: 22
A14: 2° TRIMESTRE | B14: ='Trimestre 2'!C1 -> 94 | C14: ='Trimestre 2'!B1 -> 128112.67 | D14: ='Trimestre 2'!G1 -> -21.295352 | E14: 23799.32 | F14: 20
A15: 3° TRIMESTRE | B15: ='Trimestre 3'!C1 -> 25 | C15: ='Trimestre 3'!B1 -> 25237.68 | D15: ='Trimestre 3'!G1 -> -24.29344
A16: 4° TRIMESTRE | B16: ='Trimestre 4'!C1 -> 0 | C16: ='Trimestre 4'!B1 -> 0 | D16: ='Trimestre 4'!G1 -> 0

Sheet Trimestre 1
B1: =SUM(B4:B353) -> 50726.39 | C1: =COUNTA(A4:A353) -> 35 | G1: =IF(B1<>0,H1/B1,0) -> -21.00223 | H1: =SUM(H4:H353) -> -1065367.3
A3: Documento | B3: Importo Pagato | C3: Data Scadenza | D3: Data Pagamento | E3: Periodo inesigibilità | G3: Giorni dopo scadenza | H3: Importo x giorni pagamento
A4: A20020211000051857 del 31/12/2021 | B4: 236.51 | C4: 44612 | D4: 44596 | G4: =D4-C4-(F4-E4) -> -16 | H4: =B4*G4 -> -3784.16
A5: 000571/PA del 31/12/2021 | B5: 6463.44 | C5: 44612 | D5: 44596 | G5: =D5-C5-(F5-E5) -> -16 | H5: =B5*G5 -> -103415.04
A6: A20020211000051858 del 31/12/2021 | B6: 304.7 | C6: 44612 | D6: 44596 | G6: =D6-C6-(F6-E6) -> -16 | H6: =B6*G6 -> -4875.2
A7: A20020211000051856 del 31/12/2021 | B7: 696.9 | C7: 44612 | D7: 44596 | G7: =D7-C7-(F7-E7) -> -16 | H7: =B7*G7 -> -11150.4
A8: 15 del 11/01/2022 | B8: 492 | C8: 44612 | D8: 44596 | G8: =D8-C8-(F8-E8) -> -16 | H8: =B8*G8 -> -7872
A9: 220328/E del 19/01/2022 | B9: 2146.5 | C9: 44612 | D9: 44596 | G9: =D9-C9-(F9-E9) -> -16 | H9: =B9*G9 -> -34344
A10: FPA 1/22 del 05/01/2022 | B10: 3000 | C10: 44612 | D10: 44596 | G10: =D10-C10-(F10-E10) -> -16 | H10: =B10*G10 -> -48000
A11: 13244 del 17/12/2021 | B11: 115 | C11: 44583 | D11: 44620 | G11: =D11-C11-(F11-E11) -> 37 | H11: =B11*G11 -> 4255
A12: 13186 del 07/12/2021 | B12: 728 | C12: 44583 | D12: 44620 | G12: =D12-C12-(F12-E12) -> 37 | H12: =B12*G12 -> 26936
A13: 220535/E del 27/01/2022 | B13: 3080 | C13: 44625 | D13: 44596 | G13: =D13-C13-(F13-E13) -> -29 | H13: =B13*G13 -> -89320
A14: FPA 1/22 del 24/01/2022 | B14: 7888.96 | C14: 44625 | D14: 44596 | G14: =D14-C14-(F14-E14) -> -29 | H14: =B14*G14 -> -228779.84
A15: FATTPA 1_22 del 02/02/2022 | B15: 700 | C15: 44625 | D15: 44596 | G15: =D15-C15-(F15-E15) -> -29 | H15: =B15*G15 -> -20300
... A38: 13485 del 02/03/2022 | B38: 97 | C38: 44661 | D38: 44643 | G38: =D38-C38-(F38-E38) -> -18 | H38: =B38*G38 -> -1746
G39: =D39-C39-(F39-E39) -> 0 | H39: =B39*G39 -> 0
G40: =D40-C40-(F40-E40) -> 0 | H40: =B40*G40 -> 0
G41: =D41-C41-(F41-E41) -> 0 | H41: =B41*G41 -> 0
G42: =D42-C42-(F42-E42) -> 0 | H42: =B42*G42 -> 0
G43: =D43-C43-(F43-E43) -> 0 | H43: =B43*G43 -> 0
G44: =D44-C44-(F44-E44) -> 0 | H44: =B44*G44 -> 0
G45: =D45-C45-(F45-E45) -> 0 | H45: =B45*G45 -> 0
G46: =D46-C46-(F46-E46) -> 0 | H46: =B46*G46 -> 0
G47: =D47-C47-(F47-E47) -> 0 | H47: =B47*G47 -> 0
G48: =D48-C48-(F48-E48) -> 0 | H48: =B48*G48 -> 0
G49: =D49-C49-(F49-E49) -> 0 | H49: =B49*G49 -> 0
G50: =D50-C50-(F50-E50) -> 0 | H50: =B50*G50 -> 0
... G353: =D353-C353-(F353-E353) -> 0 | H353: =B353*G353 -> 0

Sheet Trimestre 2
B1: =SUM(B4:B353) -> 128112.67 | C1: =COUNTA(A4:A353) -> 94 | G1: =IF(B1<>0,H1/B1,0) -> -21.295352 | H1: =SUM(H4:H353) -> -2728204.3
A3: Documento | B3: Importo Pagato | C3: Data Scadenza | D3: Data Pagamento | E3: Periodo inesigibilità | G3: Giorni dopo scadenza | H3: Importo x giorni pagamento
A4: V2/522404 del 23/03/2022 | B4: 520 | C4: 44686 | D4: 44665 | G4: =D4-C4-(F4-E4) -> -21 | H4: =B4*G4 -> -10920
A5: FPA 2/22 del 24/03/2022 | B5: 374.58 | C5: 44685 | D5: 44665 | G5: =D5-C5-(F5-E5) -> -20 | H5: =B5*G5 -> -7491.6
A6: 220805/E del 25/03/2022 | B6: 80 | C6: 44685 | D6: 44665 | G6: =D6-C6-(F6-E6) -> -20 | H6: =B6*G6 -> -1600
A7: V3-9614 del 23/03/2022 | B7: 133.07 | C7: 44685 | D7: 44677 | G7: =D7-C7-(F7-E7) -> -8 | H7: =B7*G7 -> -1064.56
A8: 1026/ME del 13/04/2022 | B8: 277.5 | C8: 44707 | D8: 44677 | G8: =D8-C8-(F8-E8) -> -30 | H8: =B8*G8 -> -8325
A9: 747/EG del 13/04/2022 | B9: 41 | C9: 44707 | D9: 44677 | G9: =D9-C9-(F9-E9) -> -30 | H9: =B9*G9 -> -1230
A10: V2/524172 del 31/03/2022 | B10: 600 | C10: 44707 | D10: 44680 | G10: =D10-C10-(F10-E10) -> -27 | H10: =B10*G10 -> -16200
A11: V2/525902 del 31/03/2022 | B11: 441 | C11: 44707 | D11: 44680 | G11: =D11-C11-(F11-E11) -> -27 | H11: =B11*G11 -> -11907
A12: A20020221000009629 del 31/03/2022 | B12: 236.51 | C12: 44708 | D12: 44701 | G12: =D12-C12-(F12-E12) -> -7 | H12: =B12*G12 -> -1655.57
A13: 484 del 06/04/2022 | B13: 410 | C13: 44707 | D13: 44680 | G13: =D13-C13-(F13-E13) -> -27 | H13: =B13*G13 -> -11070
A14: V2/530370 del 19/04/2022 | B14: 102 | C14: 44708 | D14: 44680 | G14: =D14-C14-(F14-E14) -> -28 | H14: =B14*G14 -> -2856
A15: 0086000367 del 15/04/2022 | B15: 3.85 | C15: 44709 | D15: 44680 | G15: =D15-C15-(F15-E15) -> -29 | H15: =B15*G15 -> -111.65
... A97: 108/P del 11/03/2022 | B97: 440 | C97: 44771 | D97: 44753 | G97: =D97-C97-(F97-E97) -> -18 | H97: =B97*G97 -> -7920
G98: =D98-C98-(F98-E98) -> 0 | H98: =B98*G98 -> 0
G99: =D99-C99-(F99-E99) -> 0 | H99: =B99*G99 -> 0
G100: =D100-C100-(F100-E100) -> 0 | H100: =B100*G100 -> 0
G101: =D101-C101-(F101-E101) -> 0 | H101: =B101*G101 -> 0
G102: =D102-C102-(F102-E102) -> 0 | H102: =B102*G102 -> 0
G103: =D103-C103-(F103-E103) -> 0 | H103: =B103*G103 -> 0
G104: =D104-C104-(F104-E104) -> 0 | H104: =B104*G104 -> 0
G105: =D105-C105-(F105-E105) -> 0 | H105: =B105*G105 -> 0
G106: =D106-C106-(F106-E106) -> 0 | H106: =B106*G106 -> 0
G107: =D107-C107-(F107-E107) -> 0 | H107: =B107*G107 -> 0
G108: =D108-C108-(F108-E108) -> 0 | H108: =B108*G108 -> 0
G109: =D109-C109-(F109-E109) -> 0 | H109: =B109*G109 -> 0
... G353: =D353-C353-(F353-E353) -> 0 | H353: =B353*G353 -> 0

Sheet Trimestre 3
B1: =SUM(B4:B353) -> 25237.68 | C1: =COUNTA(A4:A353) -> 25 | G1: =IF(B1<>0,H1/B1,0) -> -24.29344 | H1: =SUM(H4:H353) -> -613110.07
A3: Documento | B3: Importo Pagato | C3: Data Scadenza | D3: Data Pagamento | E3: Periodo inesigibilità | G3: Giorni dopo scadenza | H3: Importo x giorni pagamento
A4: 12 del 05/05/2022 | B4: 482 | C4: 44751 | D4: 44753 | G4: =D4-C4-(F4-E4) -> 2 | H4: =B4*G4 -> 964
A5: A20020221000022933 del 30/06/2022 | B5: 236.51 | C5: 44776 | D5: 44753 | G5: =D5-C5-(F5-E5) -> -23 | H5: =B5*G5 -> -5439.73
A6: A20020221000022932 del 30/06/2022 | B6: 696.9 | C6: 44776 | D6: 44753 | G6: =D6-C6-(F6-E6) -> -23 | H6: =B6*G6 -> -16028.7
A7: FATTPA 16_22 del 30/06/2022 | B7: 172.9 | C7: 44776 | D7: 44753 | G7: =D7-C7-(F7-E7) -> -23 | H7: =B7*G7 -> -3976.7
A8: 186/2022 del 30/06/2022 | B8: 560 | C8: 44776 | D8: 44753 | G8: =D8-C8-(F8-E8) -> -23 | H8: =B8*G8 -> -12880
A9: A20020221000022934 del 30/06/2022 | B9: 304.7 | C9: 44776 | D9: 44753 | G9: =D9-C9-(F9-E9) -> -23 | H9: =B9*G9 -> -7008.1
A10: 00000013/09/2022 del 25/06/2022 | B10: 3780 | C10: 44780 | D10: 44753 | G10: =D10-C10-(F10-E10) -> -27 | H10: =B10*G10 -> -102060
A11: 1022185646 del 05/07/2022 | B11: 17.83 | C11: 44780 | D11: 44753 | G11: =D11-C11-(F11-E11) -> -27 | H11: =B11*G11 -> -481.41
A12: FPA 5/22 del 07/07/2022 | B12: 70 | C12: 44780 | D12: 44753 | G12: =D12-C12-(F12-E12) -> -27 | H12: =B12*G12 -> -1890
A13: 2022.FD294.FTPA del 30/06/2022 | B13: 140 | C13: 44780 | D13: 44753 | G13: =D13-C13-(F13-E13) -> -27 | H13: =B13*G13 -> -3780
A14: FPA 4/22 del 07/07/2022 | B14: 10675 | C14: 44780 | D14: 44753 | G14: =D14-C14-(F14-E14) -> -27 | H14: =B14*G14 -> -288225
A15: FATTPA 5_22 del 11/07/2022 | B15: 1000 | C15: 44785 | D15: 44756 | G15: =D15-C15-(F15-E15) -> -29 | H15: =B15*G15 -> -29000
... A28: 1010782821 del 18/08/2022 | B28: 240.76 | C28: 44828 | D28: 44802 | G28: =D28-C28-(F28-E28) -> -26 | H28: =B28*G28 -> -6259.76
G29: =D29-C29-(F29-E29) -> 0 | H29: =B29*G29 -> 0
G30: =D30-C30-(F30-E30) -> 0 | H30: =B30*G30 -> 0
G31: =D31-C31-(F31-E31) -> 0 | H31: =B31*G31 -> 0
G32: =D32-C32-(F32-E32) -> 0 | H32: =B32*G32 -> 0
G33: =D33-C33-(F33-E33) -> 0 | H33: =B33*G33 -> 0
G34: =D34-C34-(F34-E34) -> 0 | H34: =B34*G34 -> 0
G35: =D35-C35-(F35-E35) -> 0 | H35: =B35*G35 -> 0
G36: =D36-C36-(F36-E36) -> 0 | H36: =B36*G36 -> 0
G37: =D37-C37-(F37-E37) -> 0 | H37: =B37*G37 -> 0
G38: =D38-C38-(F38-E38) -> 0 | H38: =B38*G38 -> 0
G39: =D39-C39-(F39-E39) -> 0 | H39: =B39*G39 -> 0
G40: =D40-C40-(F40-E40) -> 0 | H40: =B40*G40 -> 0
... G353: =D353-C353-(F353-E353) -> 0 | H353: =B353*G353 -> 0

Sheet Trimestre 4
B1: =SUM(B4:B353) -> 0 | C1: =COUNTA(A4:A353) -> 0 | G1: =IF(B1<>0,H1/B1,0) -> 0 | H1: =SUM(H4:H353) -> 0
A3: Documento | B3: Importo Pagato | C3: Data Scadenza | D3: Data Pagamento | E3: Periodo inesigibilità | G3: Giorni dopo scadenza | H3: Importo x giorni pagamento
G4: =D4-C4-(F4-E4) -> 0 | H4: =B4*G4 -> 0
G5: =D5-C5-(F5-E5) -> 0 | H5: =B5*G5 -> 0
G6: =D6-C6-(F6-E6) -> 0 | H6: =B6*G6 -> 0
G7: =D7-C7-(F7-E7) -> 0 | H7: =B7*G7 -> 0
G8: =D8-C8-(F8-E8) -> 0 | H8: =B8*G8 -> 0
G9: =D9-C9-(F9-E9) -> 0 | H9: =B9*G9 -> 0
G10: =D10-C10-(F10-E10) -> 0 | H10: =B10*G10 -> 0
G11: =D11-C11-(F11-E11) -> 0 | H11: =B11*G11 -> 0
G12: =D12-C12-(F12-E12) -> 0 | H12: =B12*G12 -> 0
G13: =D13-C13-(F13-E13) -> 0 | H13: =B13*G13 -> 0
G14: =D14-C14-(F14-E14) -> 0 | H14: =B14*G14 -> 0
G15: =D15-C15-(F15-E15) -> 0 | H15: =B15*G15 -> 0
... G353: =D353-C353-(F353-E353) -> 0 | H353: =B353*G353 -> 0
